Package: spikeLI Version: 2.60.0 Command: rm -rf spikeLI.buildbin-libdir && mkdir spikeLI.buildbin-libdir && F:\biocbuild\bbs-3.17-bioc\R\bin\R.exe CMD INSTALL --build --library=spikeLI.buildbin-libdir spikeLI_2.60.0.tar.gz StartedAt: 2023-10-16 09:35:43 -0400 (Mon, 16 Oct 2023) EndedAt: 2023-10-16 09:35:56 -0400 (Mon, 16 Oct 2023) EllapsedTime: 12.9 seconds RetCode: 0 Status: OK PackageFile: spikeLI_2.60.0.zip PackageFileSize: 316.7 KiB