Package: spikeLI Version: 2.60.0 Command: /home/biocbuild/bbs-3.17-bioc/R/bin/R CMD check --install=check:spikeLI.install-out.txt --library=/home/biocbuild/bbs-3.17-bioc/R/site-library --timings spikeLI_2.60.0.tar.gz StartedAt: 2023-10-16 01:23:16 -0400 (Mon, 16 Oct 2023) EndedAt: 2023-10-16 01:23:36 -0400 (Mon, 16 Oct 2023) EllapsedTime: 20.7 seconds RetCode: 0 Status: OK CheckDir: spikeLI.Rcheck Warnings: 0