Package: spikeLI Version: 2.60.0 Command: /Library/Frameworks/R.framework/Resources/bin/R CMD INSTALL spikeLI StartedAt: 2023-10-15 15:03:36 -0400 (Sun, 15 Oct 2023) EndedAt: 2023-10-15 15:03:53 -0400 (Sun, 15 Oct 2023) EllapsedTime: 17.0 seconds RetCode: 0 Status: OK