Package: spikeLI Version: 2.60.0 Command: /Library/Frameworks/R.framework/Resources/bin/R CMD build --keep-empty-dirs --no-resave-data spikeLI StartedAt: 2023-10-15 21:36:41 -0400 (Sun, 15 Oct 2023) EndedAt: 2023-10-15 21:36:59 -0400 (Sun, 15 Oct 2023) EllapsedTime: 18.2 seconds RetCode: 0 Status: OK PackageFile: spikeLI_2.60.0.tar.gz PackageFileSize: 393.9 KiB