Package: spikeLI Version: 2.60.0 Command: rm -rf spikeLI.buildbin-libdir && mkdir spikeLI.buildbin-libdir && /Users/biocbuild/BBS/utils/build-universal.sh spikeLI_2.60.0.tar.gz /Library/Frameworks/R.framework/Resources/bin/R spikeLI.buildbin-libdir StartedAt: 2023-10-16 10:17:26 -0400 (Mon, 16 Oct 2023) EndedAt: 2023-10-16 10:17:33 -0400 (Mon, 16 Oct 2023) EllapsedTime: 7.3 seconds RetCode: 0 Status: OK PackageFile: spikeLI_2.60.0.tgz PackageFileSize: 416.9 KiB