git_url: https://git.bioconductor.org/packages/spikeLI git_branch: RELEASE_3_17 git_last_commit: fd542cd git_last_commit_date: 2023-04-25 09:44:09 -0400 (Tue, 25 Apr 2023) Package: spikeLI Version: 2.60.0 Maintainer: Enrico Carlon MaintainerEmail: enrico.carlon at fys.kuleuven.be