Package: spicyR Version: 1.12.2 Command: /home/biocbuild/bbs-3.17-bioc/R/bin/R CMD INSTALL spicyR StartedAt: 2023-10-15 15:46:06 -0400 (Sun, 15 Oct 2023) EndedAt: 2023-10-15 15:46:48 -0400 (Sun, 15 Oct 2023) EllapsedTime: 42.1 seconds RetCode: 0 Status: OK