Package: spicyR Version: 1.12.2 Command: /home/biocbuild/bbs-3.17-bioc/R/bin/R CMD check --install=check:spicyR.install-out.txt --library=/home/biocbuild/bbs-3.17-bioc/R/site-library --timings spicyR_1.12.2.tar.gz StartedAt: 2023-10-16 01:21:59 -0400 (Mon, 16 Oct 2023) EndedAt: 2023-10-16 01:34:38 -0400 (Mon, 16 Oct 2023) EllapsedTime: 758.9 seconds RetCode: 0 Status: WARNINGS CheckDir: spicyR.Rcheck Warnings: 1