Package: spicyR Version: 1.12.2 Command: /Library/Frameworks/R.framework/Resources/bin/R CMD INSTALL spicyR StartedAt: 2023-10-15 16:25:37 -0400 (Sun, 15 Oct 2023) EndedAt: 2023-10-15 16:27:52 -0400 (Sun, 15 Oct 2023) EllapsedTime: 135.4 seconds RetCode: 0 Status: OK