Package: speckle Version: 1.0.0 Command: /home/biocbuild/bbs-3.17-bioc/R/bin/R CMD check --install=check:speckle.install-out.txt --library=/home/biocbuild/bbs-3.17-bioc/R/site-library --timings speckle_1.0.0.tar.gz StartedAt: 2023-10-16 01:19:49 -0400 (Mon, 16 Oct 2023) EndedAt: 2023-10-16 01:24:11 -0400 (Mon, 16 Oct 2023) EllapsedTime: 261.3 seconds RetCode: 0 Status: OK CheckDir: speckle.Rcheck Warnings: 0