Package: speckle Version: 1.0.0 Command: /Library/Frameworks/R.framework/Resources/bin/R CMD INSTALL speckle StartedAt: 2023-10-15 16:02:02 -0400 (Sun, 15 Oct 2023) EndedAt: 2023-10-15 16:03:45 -0400 (Sun, 15 Oct 2023) EllapsedTime: 103.4 seconds RetCode: 0 Status: OK