Package: specL Version: 1.34.0 Command: /Library/Frameworks/R.framework/Resources/bin/R CMD check --install=check:specL.install-out.txt --library=/Library/Frameworks/R.framework/Resources/library --no-vignettes --timings specL_1.34.0.tar.gz StartedAt: 2023-10-16 07:27:29 -0400 (Mon, 16 Oct 2023) EndedAt: 2023-10-16 07:29:21 -0400 (Mon, 16 Oct 2023) EllapsedTime: 111.2 seconds RetCode: 0 Status: OK CheckDir: specL.Rcheck Warnings: 0