Package: spatialDE Version: 1.6.0 Command: chmod a+r spatialDE -R && F:\biocbuild\bbs-3.17-bioc\R\bin\R.exe CMD build --keep-empty-dirs --no-resave-data spatialDE StartedAt: 2023-10-15 22:32:21 -0400 (Sun, 15 Oct 2023) EndedAt: 2023-10-15 22:34:50 -0400 (Sun, 15 Oct 2023) EllapsedTime: 149.0 seconds RetCode: 0 Status: OK PackageFile: spatialDE_1.6.0.tar.gz PackageFileSize: 2.1 MiB