Package: spatialDE Version: 1.6.0 Command: rm -rf spatialDE.buildbin-libdir && mkdir spatialDE.buildbin-libdir && /Users/biocbuild/BBS/utils/build-universal.sh spatialDE_1.6.0.tar.gz /Library/Frameworks/R.framework/Resources/bin/R spatialDE.buildbin-libdir StartedAt: 2023-10-16 10:16:26 -0400 (Mon, 16 Oct 2023) EndedAt: 2023-10-16 10:17:38 -0400 (Mon, 16 Oct 2023) EllapsedTime: 72.0 seconds RetCode: 0 Status: OK PackageFile: spatialDE_1.6.0.tgz PackageFileSize: 3.771 MiB