Package: sparsenetgls Version: 1.18.0 Command: F:\biocbuild\bbs-3.17-bioc\R\bin\R.exe CMD check --no-multiarch --install=check:sparsenetgls.install-out.txt --library=F:\biocbuild\bbs-3.17-bioc\R\library --no-vignettes --timings sparsenetgls_1.18.0.tar.gz StartedAt: 2023-10-16 07:05:17 -0400 (Mon, 16 Oct 2023) EndedAt: 2023-10-16 07:06:44 -0400 (Mon, 16 Oct 2023) EllapsedTime: 87.5 seconds RetCode: 0 Status: OK CheckDir: sparsenetgls.Rcheck Warnings: 0