Package: sparsenetgls Version: 1.18.0 Command: chmod a+r sparsenetgls -R && F:\biocbuild\bbs-3.17-bioc\R\bin\R.exe CMD build --keep-empty-dirs --no-resave-data sparsenetgls StartedAt: 2023-10-15 22:31:52 -0400 (Sun, 15 Oct 2023) EndedAt: 2023-10-15 22:34:50 -0400 (Sun, 15 Oct 2023) EllapsedTime: 178.4 seconds RetCode: 0 Status: OK PackageFile: sparsenetgls_1.18.0.tar.gz PackageFileSize: 280.6 KiB