Package: sparsenetgls Version: 1.18.0 Command: /Library/Frameworks/R.framework/Resources/bin/R CMD build --keep-empty-dirs --no-resave-data sparsenetgls StartedAt: 2023-10-15 21:32:01 -0400 (Sun, 15 Oct 2023) EndedAt: 2023-10-15 21:38:10 -0400 (Sun, 15 Oct 2023) EllapsedTime: 369.6 seconds RetCode: 0 Status: OK PackageFile: sparsenetgls_1.18.0.tar.gz PackageFileSize: 585.5 KiB