Package: sparsenetgls Version: 1.18.0 Command: rm -rf sparsenetgls.buildbin-libdir && mkdir sparsenetgls.buildbin-libdir && /Users/biocbuild/BBS/utils/build-universal.sh sparsenetgls_1.18.0.tar.gz /Library/Frameworks/R.framework/Resources/bin/R sparsenetgls.buildbin-libdir StartedAt: 2023-10-16 10:16:15 -0400 (Mon, 16 Oct 2023) EndedAt: 2023-10-16 10:16:38 -0400 (Mon, 16 Oct 2023) EllapsedTime: 23.6 seconds RetCode: 0 Status: OK PackageFile: sparsenetgls_1.18.0.tgz PackageFileSize: 629.6 KiB