Package: sparseMatrixStats Version: 1.12.2 Command: chmod a+r sparseMatrixStats -R && F:\biocbuild\bbs-3.17-bioc\R\bin\R.exe CMD build --keep-empty-dirs --no-resave-data sparseMatrixStats StartedAt: 2023-10-15 22:31:39 -0400 (Sun, 15 Oct 2023) EndedAt: 2023-10-15 22:32:28 -0400 (Sun, 15 Oct 2023) EllapsedTime: 49.1 seconds RetCode: 0 Status: OK PackageFile: sparseMatrixStats_1.12.2.tar.gz PackageFileSize: 686.5 KiB