Package: sparseMatrixStats Version: 1.12.2 Command: rm -rf sparseMatrixStats.buildbin-libdir && mkdir sparseMatrixStats.buildbin-libdir && F:\biocbuild\bbs-3.17-bioc\R\bin\R.exe CMD INSTALL --build --library=sparseMatrixStats.buildbin-libdir sparseMatrixStats_1.12.2.tar.gz StartedAt: 2023-10-16 09:34:47 -0400 (Mon, 16 Oct 2023) EndedAt: 2023-10-16 09:35:40 -0400 (Mon, 16 Oct 2023) EllapsedTime: 52.7 seconds RetCode: 0 Status: OK PackageFile: sparseMatrixStats_1.12.2.zip PackageFileSize: 1.419 MiB