Package: sparseMatrixStats Version: 1.12.2 Command: /Library/Frameworks/R.framework/Resources/bin/R CMD build --keep-empty-dirs --no-resave-data sparseMatrixStats StartedAt: 2023-10-15 21:31:56 -0400 (Sun, 15 Oct 2023) EndedAt: 2023-10-15 21:33:46 -0400 (Sun, 15 Oct 2023) EllapsedTime: 109.7 seconds RetCode: 0 Status: OK PackageFile: sparseMatrixStats_1.12.2.tar.gz PackageFileSize: 686.4 KiB