Package: sparseMatrixStats Version: 1.12.2 Command: rm -rf sparseMatrixStats.buildbin-libdir && mkdir sparseMatrixStats.buildbin-libdir && /Users/biocbuild/BBS/utils/build-universal.sh sparseMatrixStats_1.12.2.tar.gz /Library/Frameworks/R.framework/Resources/bin/R sparseMatrixStats.buildbin-libdir StartedAt: 2023-10-16 10:16:11 -0400 (Mon, 16 Oct 2023) EndedAt: 2023-10-16 10:17:56 -0400 (Mon, 16 Oct 2023) EllapsedTime: 104.7 seconds RetCode: 0 Status: OK PackageFile: sparseMatrixStats_1.12.2.tgz PackageFileSize: 1.123 MiB