Package: sparseDOSSA Version: 1.24.0 Command: /home/biocbuild/bbs-3.17-bioc/R/bin/R CMD build --keep-empty-dirs --no-resave-data sparseDOSSA StartedAt: 2023-10-15 18:36:53 -0400 (Sun, 15 Oct 2023) EndedAt: 2023-10-15 18:37:38 -0400 (Sun, 15 Oct 2023) EllapsedTime: 45.1 seconds RetCode: 0 Status: OK PackageFile: sparseDOSSA_1.24.0.tar.gz PackageFileSize: 969.9 KiB