Package: sparseDOSSA Version: 1.24.0 Command: /Library/Frameworks/R.framework/Resources/bin/R CMD INSTALL sparseDOSSA StartedAt: 2023-10-15 16:00:18 -0400 (Sun, 15 Oct 2023) EndedAt: 2023-10-15 16:00:42 -0400 (Sun, 15 Oct 2023) EllapsedTime: 23.6 seconds RetCode: 0 Status: OK