Package: sparseDOSSA Version: 1.24.0 Command: /Library/Frameworks/R.framework/Resources/bin/R CMD build --keep-empty-dirs --no-resave-data sparseDOSSA StartedAt: 2023-10-15 21:31:43 -0400 (Sun, 15 Oct 2023) EndedAt: 2023-10-15 21:33:56 -0400 (Sun, 15 Oct 2023) EllapsedTime: 133.2 seconds RetCode: 0 Status: OK PackageFile: sparseDOSSA_1.24.0.tar.gz PackageFileSize: 970 KiB