Package: sparseDOSSA Version: 1.24.0 Command: rm -rf sparseDOSSA.buildbin-libdir && mkdir sparseDOSSA.buildbin-libdir && /Users/biocbuild/BBS/utils/build-universal.sh sparseDOSSA_1.24.0.tar.gz /Library/Frameworks/R.framework/Resources/bin/R sparseDOSSA.buildbin-libdir StartedAt: 2023-10-16 10:16:06 -0400 (Mon, 16 Oct 2023) EndedAt: 2023-10-16 10:16:36 -0400 (Mon, 16 Oct 2023) EllapsedTime: 30.8 seconds RetCode: 0 Status: OK PackageFile: sparseDOSSA_1.24.0.tgz PackageFileSize: 648.8 KiB