Package: sparrow Version: 1.6.0 Command: /Library/Frameworks/R.framework/Resources/bin/R CMD INSTALL sparrow StartedAt: 2023-10-15 15:50:01 -0400 (Sun, 15 Oct 2023) EndedAt: 2023-10-15 15:51:47 -0400 (Sun, 15 Oct 2023) EllapsedTime: 106.3 seconds RetCode: 0 Status: OK