Package: spaSim Version: 1.2.1 Command: chmod a+r spaSim -R && F:\biocbuild\bbs-3.17-bioc\R\bin\R.exe CMD build --keep-empty-dirs --no-resave-data spaSim StartedAt: 2023-10-15 22:32:17 -0400 (Sun, 15 Oct 2023) EndedAt: 2023-10-15 22:35:53 -0400 (Sun, 15 Oct 2023) EllapsedTime: 215.2 seconds RetCode: 0 Status: OK PackageFile: spaSim_1.2.1.tar.gz PackageFileSize: 1004 KiB