Package: spaSim Version: 1.2.1 Command: rm -rf spaSim.buildbin-libdir && mkdir spaSim.buildbin-libdir && F:\biocbuild\bbs-3.17-bioc\R\bin\R.exe CMD INSTALL --build --library=spaSim.buildbin-libdir spaSim_1.2.1.tar.gz StartedAt: 2023-10-16 09:34:53 -0400 (Mon, 16 Oct 2023) EndedAt: 2023-10-16 09:35:27 -0400 (Mon, 16 Oct 2023) EllapsedTime: 34.7 seconds RetCode: 0 Status: OK PackageFile: spaSim_1.2.1.zip PackageFileSize: 1.065 MiB