Package: spaSim Version: 1.2.1 Command: /home/biocbuild/bbs-3.17-bioc/R/bin/R CMD build --keep-empty-dirs --no-resave-data spaSim StartedAt: 2023-10-15 18:37:25 -0400 (Sun, 15 Oct 2023) EndedAt: 2023-10-15 18:39:09 -0400 (Sun, 15 Oct 2023) EllapsedTime: 103.5 seconds RetCode: 0 Status: OK PackageFile: spaSim_1.2.1.tar.gz PackageFileSize: 3.34 MiB