Package: spaSim Version: 1.2.1 Command: /Library/Frameworks/R.framework/Resources/bin/R CMD INSTALL spaSim StartedAt: 2023-10-15 15:39:00 -0400 (Sun, 15 Oct 2023) EndedAt: 2023-10-15 15:40:32 -0400 (Sun, 15 Oct 2023) EllapsedTime: 92.2 seconds RetCode: 0 Status: OK