Package: spaSim Version: 1.2.1 Command: /Library/Frameworks/R.framework/Resources/bin/R CMD check --install=check:spaSim.install-out.txt --library=/Library/Frameworks/R.framework/Resources/library --no-vignettes --timings spaSim_1.2.1.tar.gz StartedAt: 2023-10-16 07:24:53 -0400 (Mon, 16 Oct 2023) EndedAt: 2023-10-16 07:39:22 -0400 (Mon, 16 Oct 2023) EllapsedTime: 868.9 seconds RetCode: 0 Status: OK CheckDir: spaSim.Rcheck Warnings: 0