Package: spaSim Version: 1.2.1 Command: /Library/Frameworks/R.framework/Resources/bin/R CMD build --keep-empty-dirs --no-resave-data spaSim StartedAt: 2023-10-15 21:32:23 -0400 (Sun, 15 Oct 2023) EndedAt: 2023-10-15 21:37:37 -0400 (Sun, 15 Oct 2023) EllapsedTime: 313.6 seconds RetCode: 0 Status: OK PackageFile: spaSim_1.2.1.tar.gz PackageFileSize: 3.44 MiB