Package: spaSim Version: 1.2.1 Command: rm -rf spaSim.buildbin-libdir && mkdir spaSim.buildbin-libdir && /Users/biocbuild/BBS/utils/build-universal.sh spaSim_1.2.1.tar.gz /Library/Frameworks/R.framework/Resources/bin/R spaSim.buildbin-libdir StartedAt: 2023-10-16 10:16:21 -0400 (Mon, 16 Oct 2023) EndedAt: 2023-10-16 10:17:56 -0400 (Mon, 16 Oct 2023) EllapsedTime: 95.2 seconds RetCode: 0 Status: OK PackageFile: spaSim_1.2.1.tgz PackageFileSize: 3.527 MiB