Package: soGGi Version: 1.32.0 Command: chmod a+r soGGi -R && F:\biocbuild\bbs-3.17-bioc\R\bin\R.exe CMD build --keep-empty-dirs --no-resave-data soGGi StartedAt: 2023-10-15 22:30:00 -0400 (Sun, 15 Oct 2023) EndedAt: 2023-10-15 22:31:21 -0400 (Sun, 15 Oct 2023) EllapsedTime: 81.4 seconds RetCode: 0 Status: OK PackageFile: soGGi_1.32.0.tar.gz PackageFileSize: 3.053 MiB