Package: snpStats Version: 1.50.0 Command: F:\biocbuild\bbs-3.17-bioc\R\bin\R.exe CMD INSTALL snpStats StartedAt: 2023-10-15 16:44:19 -0400 (Sun, 15 Oct 2023) EndedAt: 2023-10-15 16:45:12 -0400 (Sun, 15 Oct 2023) EllapsedTime: 53.4 seconds RetCode: 0 Status: OK