Package: snpStats Version: 1.50.0 Command: chmod a+r snpStats -R && F:\biocbuild\bbs-3.17-bioc\R\bin\R.exe CMD build --keep-empty-dirs --no-resave-data snpStats StartedAt: 2023-10-15 22:29:56 -0400 (Sun, 15 Oct 2023) EndedAt: 2023-10-15 22:32:19 -0400 (Sun, 15 Oct 2023) EllapsedTime: 143.4 seconds RetCode: 0 Status: OK PackageFile: snpStats_1.50.0.tar.gz PackageFileSize: 6.757 MiB