Package: snpStats Version: 1.50.0 Command: rm -rf snpStats.buildbin-libdir && mkdir snpStats.buildbin-libdir && F:\biocbuild\bbs-3.17-bioc\R\bin\R.exe CMD INSTALL --build --library=snpStats.buildbin-libdir snpStats_1.50.0.tar.gz StartedAt: 2023-10-16 09:34:21 -0400 (Mon, 16 Oct 2023) EndedAt: 2023-10-16 09:35:13 -0400 (Mon, 16 Oct 2023) EllapsedTime: 52.7 seconds RetCode: 0 Status: OK PackageFile: snpStats_1.50.0.zip PackageFileSize: 7.535 MiB