Package: snpStats Version: 1.50.0 Command: /home/biocbuild/bbs-3.17-bioc/R/bin/R CMD INSTALL snpStats StartedAt: 2023-10-15 15:38:23 -0400 (Sun, 15 Oct 2023) EndedAt: 2023-10-15 15:38:40 -0400 (Sun, 15 Oct 2023) EllapsedTime: 17.6 seconds RetCode: 0 Status: OK