Package: snpStats Version: 1.50.0 Command: /home/biocbuild/bbs-3.17-bioc/R/bin/R CMD check --install=check:snpStats.install-out.txt --library=/home/biocbuild/bbs-3.17-bioc/R/site-library --timings snpStats_1.50.0.tar.gz StartedAt: 2023-10-16 01:15:52 -0400 (Mon, 16 Oct 2023) EndedAt: 2023-10-16 01:18:35 -0400 (Mon, 16 Oct 2023) EllapsedTime: 163.3 seconds RetCode: 0 Status: WARNINGS CheckDir: snpStats.Rcheck Warnings: 2