Package: snpStats Version: 1.50.0 Command: /home/biocbuild/bbs-3.17-bioc/R/bin/R CMD build --keep-empty-dirs --no-resave-data snpStats StartedAt: 2023-10-15 18:36:18 -0400 (Sun, 15 Oct 2023) EndedAt: 2023-10-15 18:37:18 -0400 (Sun, 15 Oct 2023) EllapsedTime: 60.8 seconds RetCode: 0 Status: OK PackageFile: snpStats_1.50.0.tar.gz PackageFileSize: 6.73 MiB