Package: snm Version: 1.48.0 Command: F:\biocbuild\bbs-3.17-bioc\R\bin\R.exe CMD check --no-multiarch --install=check:snm.install-out.txt --library=F:\biocbuild\bbs-3.17-bioc\R\library --no-vignettes --timings snm_1.48.0.tar.gz StartedAt: 2023-10-16 07:02:01 -0400 (Mon, 16 Oct 2023) EndedAt: 2023-10-16 07:05:50 -0400 (Mon, 16 Oct 2023) EllapsedTime: 229.1 seconds RetCode: 0 Status: OK CheckDir: snm.Rcheck Warnings: 0