Package: snm Version: 1.48.0 Command: chmod a+r snm -R && F:\biocbuild\bbs-3.17-bioc\R\bin\R.exe CMD build --keep-empty-dirs --no-resave-data snm StartedAt: 2023-10-15 22:29:19 -0400 (Sun, 15 Oct 2023) EndedAt: 2023-10-15 22:31:04 -0400 (Sun, 15 Oct 2023) EllapsedTime: 105.2 seconds RetCode: 0 Status: OK PackageFile: snm_1.48.0.tar.gz PackageFileSize: 567.6 KiB