Package: snm Version: 1.48.0 Command: rm -rf snm.buildbin-libdir && mkdir snm.buildbin-libdir && F:\biocbuild\bbs-3.17-bioc\R\bin\R.exe CMD INSTALL --build --library=snm.buildbin-libdir snm_1.48.0.tar.gz StartedAt: 2023-10-16 09:34:10 -0400 (Mon, 16 Oct 2023) EndedAt: 2023-10-16 09:34:19 -0400 (Mon, 16 Oct 2023) EllapsedTime: 8.9 seconds RetCode: 0 Status: OK PackageFile: snm_1.48.0.zip PackageFileSize: 457.1 KiB