Package: snm Version: 1.48.0 Command: /home/biocbuild/bbs-3.17-bioc/R/bin/R CMD INSTALL snm StartedAt: 2023-10-15 15:32:47 -0400 (Sun, 15 Oct 2023) EndedAt: 2023-10-15 15:32:54 -0400 (Sun, 15 Oct 2023) EllapsedTime: 6.7 seconds RetCode: 0 Status: OK