Package: snm Version: 1.48.0 Command: /home/biocbuild/bbs-3.17-bioc/R/bin/R CMD build --keep-empty-dirs --no-resave-data snm StartedAt: 2023-10-15 18:36:14 -0400 (Sun, 15 Oct 2023) EndedAt: 2023-10-15 18:37:58 -0400 (Sun, 15 Oct 2023) EllapsedTime: 103.7 seconds RetCode: 0 Status: OK PackageFile: snm_1.48.0.tar.gz PackageFileSize: 564 KiB