Package: snm Version: 1.48.0 Command: /Library/Frameworks/R.framework/Resources/bin/R CMD check --install=check:snm.install-out.txt --library=/Library/Frameworks/R.framework/Resources/library --no-vignettes --timings snm_1.48.0.tar.gz StartedAt: 2023-10-16 07:19:43 -0400 (Mon, 16 Oct 2023) EndedAt: 2023-10-16 07:29:48 -0400 (Mon, 16 Oct 2023) EllapsedTime: 604.9 seconds RetCode: 0 Status: OK CheckDir: snm.Rcheck Warnings: 0