Package: snifter Version: 1.10.0 Command: F:\biocbuild\bbs-3.17-bioc\R\bin\R.exe CMD INSTALL snifter StartedAt: 2023-10-15 15:54:57 -0400 (Sun, 15 Oct 2023) EndedAt: 2023-10-15 15:55:13 -0400 (Sun, 15 Oct 2023) EllapsedTime: 16.3 seconds RetCode: 0 Status: OK