Package: snifter Version: 1.10.0 Command: /Library/Frameworks/R.framework/Resources/bin/R CMD build --keep-empty-dirs --no-resave-data snifter StartedAt: 2023-10-15 21:28:25 -0400 (Sun, 15 Oct 2023) EndedAt: 2023-10-15 21:31:07 -0400 (Sun, 15 Oct 2023) EllapsedTime: 162.1 seconds RetCode: 0 Status: OK PackageFile: snifter_1.10.0.tar.gz PackageFileSize: 711.7 KiB