Package: snifter Version: 1.10.0 Command: rm -rf snifter.buildbin-libdir && mkdir snifter.buildbin-libdir && /Users/biocbuild/BBS/utils/build-universal.sh snifter_1.10.0.tar.gz /Library/Frameworks/R.framework/Resources/bin/R snifter.buildbin-libdir StartedAt: 2023-10-16 10:15:33 -0400 (Mon, 16 Oct 2023) EndedAt: 2023-10-16 10:16:01 -0400 (Mon, 16 Oct 2023) EllapsedTime: 28.4 seconds RetCode: 0 Status: OK PackageFile: snifter_1.10.0.tgz PackageFileSize: 727.2 KiB